BEGIN:VCALENDAR
VERSION:2.0
CREATED:20260424T051944Z
PRODID:-//AerSale Corporation/Equisolve Calendar v1.0//EN
METHOD:PUBLISH
BEGIN:VEVENT
UID:0f1b085a3036caa3a486d9e74b242b15
DTSTAMP:20260424T121818Z
DTSTART:20260507T203000Z
DTEND:20260507T213000Z
SUMMARY:First Quarter 2026 Earnings Conference Call
DESCRIPTION:First Quarter 2026 Earnings Conference Call\nDate: May 7\, 2026 4:30 pm EDT
END:VEVENT
END:VCALENDAR
